BEGIN:VCALENDAR
VERSION:2.0
PRODID:-//Rotary Surat Diamond City - ECPv6.15.20//NONSGML v1.0//EN
CALSCALE:GREGORIAN
METHOD:PUBLISH
X-ORIGINAL-URL:https://www.rotarysuratdiamondcity.org
X-WR-CALDESC:Events for Rotary Surat Diamond City
REFRESH-INTERVAL;VALUE=DURATION:PT1H
X-Robots-Tag:noindex
X-PUBLISHED-TTL:PT1H
BEGIN:VTIMEZONE
TZID:Asia/Kolkata
BEGIN:STANDARD
TZOFFSETFROM:+0530
TZOFFSETTO:+0530
TZNAME:IST
DTSTART:20220101T000000
END:STANDARD
END:VTIMEZONE
BEGIN:VEVENT
DTSTART;TZID=Asia/Kolkata:20230802T080000
DTEND;TZID=Asia/Kolkata:20230802T170000
DTSTAMP:20260423T010739
CREATED:20231005T070645Z
LAST-MODIFIED:20240416T071149Z
UID:634-1690963200-1690995600@www.rotarysuratdiamondcity.org
SUMMARY:OLD AGE HOME
DESCRIPTION:Spreading Happiness At Old Age Home\nBeneficiaries:  75 \nSpreading Smile And Happiness To Old Age Persons By Gifting Them Dry Snacks\, Socks\, Pain Reliever Cream \n 
URL:https://www.rotarysuratdiamondcity.org/event/old-age-home/
ATTACH;FMTTYPE=image/png:https://www.rotarysuratdiamondcity.org/wp-content/uploads/2023/10/3.png
END:VEVENT
END:VCALENDAR