BEGIN:VCALENDAR
VERSION:2.0
PRODID:-//Rotary Surat Diamond City - ECPv6.15.20//NONSGML v1.0//EN
CALSCALE:GREGORIAN
METHOD:PUBLISH
X-WR-CALNAME:Rotary Surat Diamond City
X-ORIGINAL-URL:https://www.rotarysuratdiamondcity.org
X-WR-CALDESC:Events for Rotary Surat Diamond City
REFRESH-INTERVAL;VALUE=DURATION:PT1H
X-Robots-Tag:noindex
X-PUBLISHED-TTL:PT1H
BEGIN:VTIMEZONE
TZID:Asia/Kolkata
BEGIN:STANDARD
TZOFFSETFROM:+0530
TZOFFSETTO:+0530
TZNAME:IST
DTSTART:20220101T000000
END:STANDARD
END:VTIMEZONE
BEGIN:VEVENT
DTSTART;TZID=Asia/Kolkata:20230806T080000
DTEND;TZID=Asia/Kolkata:20230806T170000
DTSTAMP:20260423T010359
CREATED:20231005T071107Z
LAST-MODIFIED:20240416T070907Z
UID:637-1691308800-1691341200@www.rotarysuratdiamondcity.org
SUMMARY:JUVENILE HOME- MHA
DESCRIPTION:Spreading Positivity & Motivation- Creating Happiness by Mental Health Awareness\nBeneficiaries:  65 \nOther than our sophisticated society there are many other parts which are being neglected such as girls in foster homes and which are passing through post traumatic stress disorder and fighting for their lives and existence. Their mental health is always neglected by society. Spreading Happiness and motivating them towards better life and to address their mental health issues. Rotary Club of Surat Diamond City and Innerwheel Club of Surat Diamond City Jointly Started this initiative to encourage them towards better life as a regular project.
URL:https://www.rotarysuratdiamondcity.org/event/juvenile-home-mha/
ATTACH;FMTTYPE=image/png:https://www.rotarysuratdiamondcity.org/wp-content/uploads/2023/10/c.png
END:VEVENT
END:VCALENDAR