BEGIN:VCALENDAR
VERSION:2.0
PRODID:-//Rotary Surat Diamond City - ECPv6.15.20//NONSGML v1.0//EN
CALSCALE:GREGORIAN
METHOD:PUBLISH
X-ORIGINAL-URL:https://www.rotarysuratdiamondcity.org
X-WR-CALDESC:Events for Rotary Surat Diamond City
REFRESH-INTERVAL;VALUE=DURATION:PT1H
X-Robots-Tag:noindex
X-PUBLISHED-TTL:PT1H
BEGIN:VTIMEZONE
TZID:Asia/Kolkata
BEGIN:STANDARD
TZOFFSETFROM:+0530
TZOFFSETTO:+0530
TZNAME:IST
DTSTART:20220101T000000
END:STANDARD
END:VTIMEZONE
BEGIN:VEVENT
DTSTART;TZID=Asia/Kolkata:20230812T080000
DTEND;TZID=Asia/Kolkata:20230812T170000
DTSTAMP:20260423T010739
CREATED:20231005T072213Z
LAST-MODIFIED:20240416T070828Z
UID:640-1691827200-1691859600@www.rotarysuratdiamondcity.org
SUMMARY:BOOK LAUNCH
DESCRIPTION:Book Launch Of Dr Atul Pathak\, On Biography Of Krushnal Lal Pathak And Others\nBeneficiaries:  160 \n \nDr AtulBhai Pathak Is A Member Of Rotary Club Of Surat Diamond City\, And Gujarat Hitrakshak Society\, Author Of 40+ Books\, Had A Book Launch With Rotary Club Of Surat Diamond And Innerwheel Club Of Surat Diamond City \,where Rotary Club Of Surat Diamond City Took Part As Volunteer. There Were Two Biographies Which Help The Society To Change Their Perception Towards Women And Encourage Women Empowerment In Many Fields Such As Art\, Economics\, Society Development And Many More.
URL:https://www.rotarysuratdiamondcity.org/event/book-launch/
ATTACH;FMTTYPE=image/png:https://www.rotarysuratdiamondcity.org/wp-content/uploads/2023/10/4-1.png
END:VEVENT
END:VCALENDAR