BEGIN:VCALENDAR
VERSION:2.0
PRODID:-//Rotary Surat Diamond City - ECPv6.15.20//NONSGML v1.0//EN
CALSCALE:GREGORIAN
METHOD:PUBLISH
X-WR-CALNAME:Rotary Surat Diamond City
X-ORIGINAL-URL:https://www.rotarysuratdiamondcity.org
X-WR-CALDESC:Events for Rotary Surat Diamond City
REFRESH-INTERVAL;VALUE=DURATION:PT1H
X-Robots-Tag:noindex
X-PUBLISHED-TTL:PT1H
BEGIN:VTIMEZONE
TZID:UTC
BEGIN:STANDARD
TZOFFSETFROM:+0000
TZOFFSETTO:+0000
TZNAME:UTC
DTSTART:20220101T000000
END:STANDARD
END:VTIMEZONE
BEGIN:VEVENT
DTSTART;TZID=UTC:20230920T203000
DTEND;TZID=UTC:20230920T203000
DTSTAMP:20260422T233313
CREATED:20230921T021207Z
LAST-MODIFIED:20240416T070556Z
UID:573-1695241800-1695241800@www.rotarysuratdiamondcity.org
SUMMARY:Hindi Day Celebration - Speaker Our Club Member Atul Kaka Pathakji
DESCRIPTION:Celebrating Hindi Diwas\nSpeaker Name: Atul Kaka Pathakji \n       \n   \nHindi Day\, also known as “Hindi Diwas\,” is celebrated on 14th September every year in India to promote and spread the importance of the Hindi language\, which is one of the official languages of India. The day is chosen to commemorate the adoption of Hindi in Devanagari script as one of the official languages of India by the Constituent Assembly of India on 14th September 1949. \nCelebrated Celebrated Hindi Diwas\, Our Member Rtn Dr Atul Pathakji Gave Us Basic But Brief Knowledge About Hindi Language.
URL:https://www.rotarysuratdiamondcity.org/event/hindi-days/
ATTACH;FMTTYPE=image/png:https://www.rotarysuratdiamondcity.org/wp-content/uploads/2023/09/8.png
END:VEVENT
END:VCALENDAR