BEGIN:VCALENDAR
VERSION:2.0
PRODID:-//Rotary Surat Diamond City - ECPv6.15.20//NONSGML v1.0//EN
CALSCALE:GREGORIAN
METHOD:PUBLISH
X-WR-CALNAME:Rotary Surat Diamond City
X-ORIGINAL-URL:https://www.rotarysuratdiamondcity.org
X-WR-CALDESC:Events for Rotary Surat Diamond City
REFRESH-INTERVAL;VALUE=DURATION:PT1H
X-Robots-Tag:noindex
X-PUBLISHED-TTL:PT1H
BEGIN:VTIMEZONE
TZID:Asia/Kolkata
BEGIN:STANDARD
TZOFFSETFROM:+0530
TZOFFSETTO:+0530
TZNAME:IST
DTSTART:20220101T000000
END:STANDARD
END:VTIMEZONE
BEGIN:VEVENT
DTSTART;TZID=Asia/Kolkata:20230923T080000
DTEND;TZID=Asia/Kolkata:20230923T170000
DTSTAMP:20260422T233406
CREATED:20231005T090818Z
LAST-MODIFIED:20240416T070413Z
UID:663-1695456000-1695488400@www.rotarysuratdiamondcity.org
SUMMARY:EXAMPHOBIA
DESCRIPTION:Seminar on Examinophobia- Fear of Exam\nBeneficiaries:  150 \n   \nA Joint Project On Mental Health Awareness A Seminar On Examinophobia- Fear Of Exams Was Organized At Prembharti School\, Ramnagar\, Surat\, With Innerwheel Club Of Surat Diamond City\, Where 125 Students Were Direct Beneficiaries Also A Permanent Banner On Mental Health Awareness Was Placed At The Entrance Of School\, Where Monthly More Than 4500 People Will Notice The Banner.
URL:https://www.rotarysuratdiamondcity.org/event/examphobia-2/
ATTACH;FMTTYPE=image/png:https://www.rotarysuratdiamondcity.org/wp-content/uploads/2023/10/9-1.png
END:VEVENT
END:VCALENDAR