BEGIN:VCALENDAR
VERSION:2.0
PRODID:-//Rotary Surat Diamond City - ECPv6.15.20//NONSGML v1.0//EN
CALSCALE:GREGORIAN
METHOD:PUBLISH
X-WR-CALNAME:Rotary Surat Diamond City
X-ORIGINAL-URL:https://www.rotarysuratdiamondcity.org
X-WR-CALDESC:Events for Rotary Surat Diamond City
REFRESH-INTERVAL;VALUE=DURATION:PT1H
X-Robots-Tag:noindex
X-PUBLISHED-TTL:PT1H
BEGIN:VTIMEZONE
TZID:Asia/Kolkata
BEGIN:STANDARD
TZOFFSETFROM:+0530
TZOFFSETTO:+0530
TZNAME:IST
DTSTART:20230101T000000
END:STANDARD
END:VTIMEZONE
BEGIN:VEVENT
DTSTART;TZID=Asia/Kolkata:20240407T160000
DTEND;TZID=Asia/Kolkata:20240407T180000
DTSTAMP:20260422T134219
CREATED:20240416T062941Z
LAST-MODIFIED:20250804T095536Z
UID:789-1712505600-1712512800@www.rotarysuratdiamondcity.org
SUMMARY:Food Distribution To Needy People
DESCRIPTION:Sponsored by: RTR Rajubhai Chabhadiya \nTotal Beneficiary : 300 People \n     \n     \nINSTAGRAM :- \nRotaract : https://www.instagram.com/rcsuratdiamondcity/ \nRotary : https://www.instagram.com/rotarysuratdiamondcity/
URL:https://www.rotarysuratdiamondcity.org/event/food-distribution-to-needy-people/
LOCATION:Silver Business Hub\, Bapa Sitaram Chowk\, Simada Naka\, Surat
ATTACH;FMTTYPE=image/jpeg:https://www.rotarysuratdiamondcity.org/wp-content/uploads/2024/04/food-distribution.jpg
END:VEVENT
END:VCALENDAR