BEGIN:VCALENDAR
VERSION:2.0
PRODID:-//Rotary Surat Diamond City - ECPv6.15.20//NONSGML v1.0//EN
CALSCALE:GREGORIAN
METHOD:PUBLISH
X-ORIGINAL-URL:https://www.rotarysuratdiamondcity.org
X-WR-CALDESC:Events for Rotary Surat Diamond City
REFRESH-INTERVAL;VALUE=DURATION:PT1H
X-Robots-Tag:noindex
X-PUBLISHED-TTL:PT1H
BEGIN:VTIMEZONE
TZID:Asia/Kolkata
BEGIN:STANDARD
TZOFFSETFROM:+0530
TZOFFSETTO:+0530
TZNAME:IST
DTSTART:20230101T000000
END:STANDARD
END:VTIMEZONE
BEGIN:VEVENT
DTSTART;VALUE=DATE:20240701
DTEND;VALUE=DATE:20240702
DTSTAMP:20260422T091747
CREATED:20240701T071253Z
LAST-MODIFIED:20250628T130448Z
UID:876-1719792000-1719878399@www.rotarysuratdiamondcity.org
SUMMARY:Blood Donationa Camp
DESCRIPTION:Blood Units Collected :- 26        \n🩸✨ Blood Donation Camp ✨🩸 \nOn July 1st\, 2024\, the Rotary\, Rotaract\, and Innerwheel Surat Diamond City clubs came together to host a successful Blood Donation Camp! 🩸❤️ Thanks to the generosity of our community\, we collected numerous units of blood to help save lives. A big thank you to all our donors and volunteers! Together\, we make a difference. 💪🌟 \n         \n   \n  \nINSTAGRAM :- https://www.instagram.com/rcsuratdiamondcity
URL:https://www.rotarysuratdiamondcity.org/event/blood-donationa-camp/
LOCATION:P.P Maniya Hospital PVT LTD
ATTACH;FMTTYPE=image/jpeg:https://www.rotarysuratdiamondcity.org/wp-content/uploads/2024/07/blood-donationa-camp-381.jpg
END:VEVENT
END:VCALENDAR