BEGIN:VCALENDAR
VERSION:2.0
PRODID:-//Rotary Surat Diamond City - ECPv6.15.20//NONSGML v1.0//EN
CALSCALE:GREGORIAN
METHOD:PUBLISH
X-WR-CALNAME:Rotary Surat Diamond City
X-ORIGINAL-URL:https://www.rotarysuratdiamondcity.org
X-WR-CALDESC:Events for Rotary Surat Diamond City
REFRESH-INTERVAL;VALUE=DURATION:PT1H
X-Robots-Tag:noindex
X-PUBLISHED-TTL:PT1H
BEGIN:VTIMEZONE
TZID:Asia/Kolkata
BEGIN:STANDARD
TZOFFSETFROM:+0530
TZOFFSETTO:+0530
TZNAME:IST
DTSTART:20230101T000000
END:STANDARD
END:VTIMEZONE
BEGIN:VEVENT
DTSTART;VALUE=DATE:20240710
DTEND;VALUE=DATE:20240711
DTSTAMP:20260421T200802
CREATED:20240717T063511Z
LAST-MODIFIED:20250701T052445Z
UID:908-1720569600-1720655999@www.rotarysuratdiamondcity.org
SUMMARY:Rotary Charter Day Celebrations & General Meeting
DESCRIPTION:The Charter Day Celebration is a proud occasion that marks the founding of our Rotary Club — a day to honor our beginnings\, reflect on our journey\, and celebrate the service and fellowship that defines our purpose. \n     \n  
URL:https://www.rotarysuratdiamondcity.org/event/rotary-charter-day-celebrations-general-meeting/
ATTACH;FMTTYPE=image/jpeg:https://www.rotarysuratdiamondcity.org/wp-content/uploads/2024/07/RRC-Frame.jpg
END:VEVENT
END:VCALENDAR