BEGIN:VCALENDAR
VERSION:2.0
PRODID:-//Rotary Surat Diamond City - ECPv6.15.20//NONSGML v1.0//EN
CALSCALE:GREGORIAN
METHOD:PUBLISH
X-ORIGINAL-URL:https://www.rotarysuratdiamondcity.org
X-WR-CALDESC:Events for Rotary Surat Diamond City
REFRESH-INTERVAL;VALUE=DURATION:PT1H
X-Robots-Tag:noindex
X-PUBLISHED-TTL:PT1H
BEGIN:VTIMEZONE
TZID:Asia/Kolkata
BEGIN:STANDARD
TZOFFSETFROM:+0530
TZOFFSETTO:+0530
TZNAME:IST
DTSTART:20230101T000000
END:STANDARD
END:VTIMEZONE
BEGIN:VEVENT
DTSTART;VALUE=DATE:20240728
DTEND;VALUE=DATE:20240729
DTSTAMP:20260422T091748
CREATED:20240806T103209Z
LAST-MODIFIED:20250628T130655Z
UID:932-1722124800-1722211199@www.rotarysuratdiamondcity.org
SUMMARY:Hindi Diwas
DESCRIPTION:“South Gujarat Hindi Teacher Shibir”\n“Rashtrabhasha Pracharak Mandal Surat” \nThe Rotaract Club Of Surat Diamond City Organized The The day honors the cultural and linguistic heritage of the Hindi language and promotes its usage\nacross the country. Educational institutions\, government o ces\, and literary organizations mark the occasion with speeches\, essay competitions\, poetry\nrecitals\, and awards that recognize contributions to Hindi literature and language development.Hindi Diwas serves as a reminder of the importance of\nlinguistic unity in India’s diverse cultural fabric.\n \n       \n       \n \n  \n“All India National Language Promotion Committee”\nPresident     :- Shri Hemchandraji\nChief Guest :- Shri Chhatrapalji \n  \n“Gujarat Provincial National Language Promotion Committee”- No. Ahmedabad :- Dr. Atulbhai Pathakji &\nCoordinator                 :- Shri Satyambhai Joshi\nMinister of Publicity     :- Shri Surendrabhai Rawal\nMinister Administrator :- Shri Sharadbhai Joshi \n  \n“Veer Narmad South Gujarat University”\nFormer Chancellor :- Shri Premkumar Shardaji \nINSTAGRAM :- https://www.instagram.com/rcsuratdiamondcity \n 
URL:https://www.rotarysuratdiamondcity.org/event/hindi-diwas/
ATTACH;FMTTYPE=image/jpeg:https://www.rotarysuratdiamondcity.org/wp-content/uploads/2024/08/Hindi-Diwas.jpg
END:VEVENT
BEGIN:VEVENT
DTSTART;VALUE=DATE:20240728
DTEND;VALUE=DATE:20240729
DTSTAMP:20260422T091748
CREATED:20250628T132522Z
LAST-MODIFIED:20250628T132819Z
UID:1671-1722124800-1722211199@www.rotarysuratdiamondcity.org
SUMMARY:Fellowship Meeting
DESCRIPTION:The Rotaract Club Of Surat Diamond City Organized the spirit of camaraderie\, mutual support\, and shared purpose that binds individuals together in a\ncommunity or organization. In the context of service clubs\, educational programs\, or professional groups\, fellowship plays a vital role in fostering strong\ninterpersonal relationships and a positive group culture. \n         \n  \nINSTAGRAM :- https://www.instagram.com/rcsuratdiamondcity
URL:https://www.rotarysuratdiamondcity.org/event/fellowship-meeting/
ATTACH;FMTTYPE=image/jpeg:https://www.rotarysuratdiamondcity.org/wp-content/uploads/2025/06/FOLLOWSHIP1.jpg
END:VEVENT
END:VCALENDAR