BEGIN:VCALENDAR
VERSION:2.0
PRODID:-//Rotary Surat Diamond City - ECPv6.15.20//NONSGML v1.0//EN
CALSCALE:GREGORIAN
METHOD:PUBLISH
X-ORIGINAL-URL:https://www.rotarysuratdiamondcity.org
X-WR-CALDESC:Events for Rotary Surat Diamond City
REFRESH-INTERVAL;VALUE=DURATION:PT1H
X-Robots-Tag:noindex
X-PUBLISHED-TTL:PT1H
BEGIN:VTIMEZONE
TZID:Asia/Kolkata
BEGIN:STANDARD
TZOFFSETFROM:+0530
TZOFFSETTO:+0530
TZNAME:IST
DTSTART:20230101T000000
END:STANDARD
END:VTIMEZONE
BEGIN:VEVENT
DTSTART;VALUE=DATE:20240914
DTEND;VALUE=DATE:20240915
DTSTAMP:20260422T055726
CREATED:20240916T053950Z
LAST-MODIFIED:20250628T130940Z
UID:992-1726272000-1726358399@www.rotarysuratdiamondcity.org
SUMMARY:Offical Club Visit
DESCRIPTION:Offical Club Visit \nThe Rotaract Club Of Surat Diamond City Organized The An O cial Club Visit (OCV) is a formal event where a district o cer\, often the District Governor (DG) or\na designated representative\, visits a Rotary/Rotaract club as part of their annual schedule. The purpose of this visit is to strengthen the connection\nbetween the club and the district leadership. \nBeneficiaries :- 50 Club Members Families\n \n       \n \n  \nINSTAGRAM :- https://www.instagram.com/rcsuratdiamondcity
URL:https://www.rotarysuratdiamondcity.org/event/offical-club-visit/
ATTACH;FMTTYPE=image/jpeg:https://www.rotarysuratdiamondcity.org/wp-content/uploads/2024/09/Offical-Club-Visit.jpg
END:VEVENT
END:VCALENDAR