BEGIN:VCALENDAR
VERSION:2.0
PRODID:-//Rotary Surat Diamond City - ECPv6.15.20//NONSGML v1.0//EN
CALSCALE:GREGORIAN
METHOD:PUBLISH
X-ORIGINAL-URL:https://www.rotarysuratdiamondcity.org
X-WR-CALDESC:Events for Rotary Surat Diamond City
REFRESH-INTERVAL;VALUE=DURATION:PT1H
X-Robots-Tag:noindex
X-PUBLISHED-TTL:PT1H
BEGIN:VTIMEZONE
TZID:Asia/Kolkata
BEGIN:STANDARD
TZOFFSETFROM:+0530
TZOFFSETTO:+0530
TZNAME:IST
DTSTART:20230101T000000
END:STANDARD
END:VTIMEZONE
BEGIN:VEVENT
DTSTART;VALUE=DATE:20241229
DTEND;VALUE=DATE:20241230
DTSTAMP:20260422T020156
CREATED:20241231T065718Z
LAST-MODIFIED:20250628T130331Z
UID:1026-1735430400-1735516799@www.rotarysuratdiamondcity.org
SUMMARY:Sweater Distribution Project
DESCRIPTION:Sweater Distribution Project \nSponsors :- Appgenix Infotech LLP \nThe Rotaract Club Of Surat Diamond City Organized the The Sweater Vitaran ( वेटर वतरण) initiative was launched to provide warmth and comfort to\nunderprivileged children and elderly during the winter season. The project involved distributing high-quality sweaters to those in need\, especially in rural\nand low-income communities. The aim was to ensure that no individual faces the harsh winter without proper clothing. \nBeneficiaries :- 50+\n \n    \n  \nINSTAGRAM :- https://www.instagram.com/rcsuratdiamondcity
URL:https://www.rotarysuratdiamondcity.org/event/sweater-distribution/
ATTACH;FMTTYPE=image/jpeg:https://www.rotarysuratdiamondcity.org/wp-content/uploads/2024/12/sweater-distribution-project.jpg
END:VEVENT
END:VCALENDAR