BEGIN:VCALENDAR
VERSION:2.0
PRODID:-//Rotary Surat Diamond City - ECPv6.15.20//NONSGML v1.0//EN
CALSCALE:GREGORIAN
METHOD:PUBLISH
X-ORIGINAL-URL:https://www.rotarysuratdiamondcity.org
X-WR-CALDESC:Events for Rotary Surat Diamond City
REFRESH-INTERVAL;VALUE=DURATION:PT1H
X-Robots-Tag:noindex
X-PUBLISHED-TTL:PT1H
BEGIN:VTIMEZONE
TZID:Asia/Kolkata
BEGIN:STANDARD
TZOFFSETFROM:+0530
TZOFFSETTO:+0530
TZNAME:IST
DTSTART:20240101T000000
END:STANDARD
END:VTIMEZONE
BEGIN:VEVENT
DTSTART;VALUE=DATE:20250105
DTEND;VALUE=DATE:20250106
DTSTAMP:20260422T003448
CREATED:20250113T102503Z
LAST-MODIFIED:20250628T131333Z
UID:1242-1736035200-1736121599@www.rotarysuratdiamondcity.org
SUMMARY:Blood Donation camp
DESCRIPTION:🩸✨ સમસ્ત સભાડિયા પરિવાર સ્નેહમિલન  બ્લડ ડોનેશન કેમ્પ  ✨🩸\n\n The Rotaract Club Of Surat Diamond City Organized A Blood Donation Camp Is A Humanitarian Initiative Designed To Collect Blood From Healthy Volunteers To\nSupport Those In Critical Need Of Transfusions. Organized In Collaboration With Medical Institutions\, These Camps Ensure Safe\, Hygienic\, And Well-supervised\nDonation Procedures. \nBeneficiaries :- 115 Units\nNumber of Participants :- 15 rotractors + 550 non members \nChair :- Jignesh Chabhadiya\nCo Chair :-Milan Chabahdiya \n \n     \n  \n     \n  \nINSTAGRAM :- https://www.instagram.com/rcsuratdiamondcity
URL:https://www.rotarysuratdiamondcity.org/event/blood-donation-camp/
ATTACH;FMTTYPE=image/jpeg:https://www.rotarysuratdiamondcity.org/wp-content/uploads/2025/01/Blood-Donation-Camp-frem.jpg
END:VEVENT
END:VCALENDAR