BEGIN:VCALENDAR
VERSION:2.0
PRODID:-//Rotary Surat Diamond City - ECPv6.15.20//NONSGML v1.0//EN
CALSCALE:GREGORIAN
METHOD:PUBLISH
X-ORIGINAL-URL:https://www.rotarysuratdiamondcity.org
X-WR-CALDESC:Events for Rotary Surat Diamond City
REFRESH-INTERVAL;VALUE=DURATION:PT1H
X-Robots-Tag:noindex
X-PUBLISHED-TTL:PT1H
BEGIN:VTIMEZONE
TZID:Asia/Kolkata
BEGIN:STANDARD
TZOFFSETFROM:+0530
TZOFFSETTO:+0530
TZNAME:IST
DTSTART:20240101T000000
END:STANDARD
END:VTIMEZONE
BEGIN:VEVENT
DTSTART;VALUE=DATE:20250126
DTEND;VALUE=DATE:20250127
DTSTAMP:20260422T003448
CREATED:20250628T114604Z
LAST-MODIFIED:20250804T095459Z
UID:1565-1737849600-1737935999@www.rotarysuratdiamondcity.org
SUMMARY:Republic Day
DESCRIPTION:The Rotaract Club Of Surat Diamond City Organized A 26 January is celebrated as Republic Day in India\, marking the date in 1950 when the Constitution of India came into eect\, o cially making India a sovereign\, democratic republic. It is a national holiday and one of the most significant days in the Indian calendar \n Number of Participants :- 15 Rotractors Member’s \n \nINSTAGRAM :- \nRotaract : https://www.instagram.com/rcsuratdiamondcity/ \nRotary : https://www.instagram.com/rotarysuratdiamondcity/
URL:https://www.rotarysuratdiamondcity.org/event/republic-day/
ATTACH;FMTTYPE=image/png:https://www.rotarysuratdiamondcity.org/wp-content/uploads/2025/06/26-01-20251.png
END:VEVENT
BEGIN:VEVENT
DTSTART;VALUE=DATE:20250126
DTEND;VALUE=DATE:20250127
DTSTAMP:20260422T003448
CREATED:20250628T073157Z
LAST-MODIFIED:20250628T131025Z
UID:1355-1737849600-1737935999@www.rotarysuratdiamondcity.org
SUMMARY:Remote Village Students Hostel One Time Meal
DESCRIPTION:Sponsor By :- Jevilbhai Bopaliya \nThe Rotaract Club Of Surat Diamond City Organized The The One Time Meal Program for students in remote village hostels is a noble initiative aimed at\nproviding a nutritious and wholesome meal to underprivileged children living away from home to pursue education. These hostels support children from\neconomically and socially backward communities who often lack access to regular\, healthy food.\n \n     \n   \n  \nINSTAGRAM :- https://www.instagram.com/rcsuratdiamondcity
URL:https://www.rotarysuratdiamondcity.org/event/remote-village-students-hostel-one-time-meal/
ATTACH;FMTTYPE=image/jpeg:https://www.rotarysuratdiamondcity.org/wp-content/uploads/2025/06/Remote-Village-Students-hostel-one-time-meal1.jpg
END:VEVENT
END:VCALENDAR