BEGIN:VCALENDAR
VERSION:2.0
PRODID:-//Rotary Surat Diamond City - ECPv6.15.20//NONSGML v1.0//EN
CALSCALE:GREGORIAN
METHOD:PUBLISH
X-WR-CALNAME:Rotary Surat Diamond City
X-ORIGINAL-URL:https://www.rotarysuratdiamondcity.org
X-WR-CALDESC:Events for Rotary Surat Diamond City
REFRESH-INTERVAL;VALUE=DURATION:PT1H
X-Robots-Tag:noindex
X-PUBLISHED-TTL:PT1H
BEGIN:VTIMEZONE
TZID:Asia/Kolkata
BEGIN:STANDARD
TZOFFSETFROM:+0530
TZOFFSETTO:+0530
TZNAME:IST
DTSTART:20240101T000000
END:STANDARD
END:VTIMEZONE
BEGIN:VEVENT
DTSTART;VALUE=DATE:20250528
DTEND;VALUE=DATE:20250529
DTSTAMP:20260419T191039
CREATED:20250628T102257Z
LAST-MODIFIED:20250804T094748Z
UID:1466-1748390400-1748476799@www.rotarysuratdiamondcity.org
SUMMARY:Sakhi Surkasha Florence
DESCRIPTION:Sanitary Pads\, Also Known As Menstrual Pads Or Sanitary Napkins\, Are Absorbent Products Designed To Manage Menstrual Flow During A Woman’s\nPeriod. They Are An Essential Part Of Feminine Hygiene And Play A Crucial Role In Maintaining Health\, Comfort\, And Dignity During Menstruation. \n  \nSPONSOR BY :       \nBeneficiaries :- More Then 1150 Students\nSanitary Pad Destroyer Machine And Wall Clock Donation To Schools\nSanitary Pad Distributions To Remote Area \n  \n     \n       \n  \nINSTAGRAM :- \nRotaract : https://www.instagram.com/rcsuratdiamondcity/ \nRotary : https://www.instagram.com/rotarysuratdiamondcity/
URL:https://www.rotarysuratdiamondcity.org/event/sakhi-surkasha-florence/
ATTACH;FMTTYPE=image/jpeg:https://www.rotarysuratdiamondcity.org/wp-content/uploads/2025/06/Florence-Sakhi-Surksha-02.jpg
END:VEVENT
END:VCALENDAR