BEGIN:VCALENDAR
VERSION:2.0
PRODID:-//Rotary Surat Diamond City - ECPv6.15.20//NONSGML v1.0//EN
CALSCALE:GREGORIAN
METHOD:PUBLISH
X-WR-CALNAME:Rotary Surat Diamond City
X-ORIGINAL-URL:https://www.rotarysuratdiamondcity.org
X-WR-CALDESC:Events for Rotary Surat Diamond City
REFRESH-INTERVAL;VALUE=DURATION:PT1H
X-Robots-Tag:noindex
X-PUBLISHED-TTL:PT1H
BEGIN:VTIMEZONE
TZID:UTC
BEGIN:STANDARD
TZOFFSETFROM:+0000
TZOFFSETTO:+0000
TZNAME:UTC
DTSTART:20220101T000000
END:STANDARD
END:VTIMEZONE
BEGIN:VTIMEZONE
TZID:Asia/Kolkata
BEGIN:STANDARD
TZOFFSETFROM:+0530
TZOFFSETTO:+0530
TZNAME:IST
DTSTART:20220101T000000
END:STANDARD
END:VTIMEZONE
BEGIN:VEVENT
DTSTART;VALUE=DATE:20230906
DTEND;VALUE=DATE:20230907
DTSTAMP:20260422T221229
CREATED:20230908T013136Z
LAST-MODIFIED:20240416T070633Z
UID:545-1693958400-1694044799@www.rotarysuratdiamondcity.org
SUMMARY:Teachers Day Celebration and Felicitated 3 Teachers
DESCRIPTION:Felicitating Teachers- Nation Builder award in Different way-Teachers Day Celebration\nTeacher Name: Mansukhbhai Nariya\, Sunilbhai Jadav \nChief Guest: Mr Sharda\, ex vc vnsgu \nBeneficiaries:  03 \n                   \nAs Of 5th September Is Celebrated As Teachers Day\, And Like Every Year We Decided To Felicitate 3 Teachers From Different Subjects. Chief Guest Mr Sharda\, Ex Vc Vnsgu Made Us Honored As A Host \, Mr Nariya\, Mr Jadav And Mrs Patel Was Felicitated By Our Club.
URL:https://www.rotarysuratdiamondcity.org/event/teachers-day-celebration-and-felicitated-3-teachers/
ATTACH;FMTTYPE=image/jpeg:https://www.rotarysuratdiamondcity.org/wp-content/uploads/2023/09/4.jpg
END:VEVENT
BEGIN:VEVENT
DTSTART;TZID=UTC:20230920T203000
DTEND;TZID=UTC:20230920T203000
DTSTAMP:20260422T221229
CREATED:20230921T021207Z
LAST-MODIFIED:20240416T070556Z
UID:573-1695241800-1695241800@www.rotarysuratdiamondcity.org
SUMMARY:Hindi Day Celebration - Speaker Our Club Member Atul Kaka Pathakji
DESCRIPTION:Celebrating Hindi Diwas\nSpeaker Name: Atul Kaka Pathakji \n       \n   \nHindi Day\, also known as “Hindi Diwas\,” is celebrated on 14th September every year in India to promote and spread the importance of the Hindi language\, which is one of the official languages of India. The day is chosen to commemorate the adoption of Hindi in Devanagari script as one of the official languages of India by the Constituent Assembly of India on 14th September 1949. \nCelebrated Celebrated Hindi Diwas\, Our Member Rtn Dr Atul Pathakji Gave Us Basic But Brief Knowledge About Hindi Language.
URL:https://www.rotarysuratdiamondcity.org/event/hindi-days/
ATTACH;FMTTYPE=image/png:https://www.rotarysuratdiamondcity.org/wp-content/uploads/2023/09/8.png
END:VEVENT
BEGIN:VEVENT
DTSTART;TZID=Asia/Kolkata:20230923T080000
DTEND;TZID=Asia/Kolkata:20230923T170000
DTSTAMP:20260422T221229
CREATED:20231005T090818Z
LAST-MODIFIED:20240416T070413Z
UID:663-1695456000-1695488400@www.rotarysuratdiamondcity.org
SUMMARY:EXAMPHOBIA
DESCRIPTION:Seminar on Examinophobia- Fear of Exam\nBeneficiaries:  150 \n   \nA Joint Project On Mental Health Awareness A Seminar On Examinophobia- Fear Of Exams Was Organized At Prembharti School\, Ramnagar\, Surat\, With Innerwheel Club Of Surat Diamond City\, Where 125 Students Were Direct Beneficiaries Also A Permanent Banner On Mental Health Awareness Was Placed At The Entrance Of School\, Where Monthly More Than 4500 People Will Notice The Banner.
URL:https://www.rotarysuratdiamondcity.org/event/examphobia-2/
ATTACH;FMTTYPE=image/png:https://www.rotarysuratdiamondcity.org/wp-content/uploads/2023/10/9-1.png
END:VEVENT
BEGIN:VEVENT
DTSTART;TZID=Asia/Kolkata:20230929T080000
DTEND;TZID=Asia/Kolkata:20230929T170000
DTSTAMP:20260422T221229
CREATED:20231005T091344Z
LAST-MODIFIED:20240416T070259Z
UID:668-1695974400-1696006800@www.rotarysuratdiamondcity.org
SUMMARY:CONCEPT OF DISEASE
DESCRIPTION:Seminar On Concept Of Disease-somatic Disorders-mental Health Awareness\nBeneficiaries:  35 \nA Seminar Was Organized Jointly By Rc Baroda & Rc Surat Diamond City\,rc Sdc Secretary Satyam Sagar Conducted Seminar On Topic Concept Of Disease- Somatic Disorders At Rotary Hall\, Alkapuri\, Baroda\, And Total 35 Approx Beneficiaries.
URL:https://www.rotarysuratdiamondcity.org/event/concept-of-disease-2/
ATTACH;FMTTYPE=image/png:https://www.rotarysuratdiamondcity.org/wp-content/uploads/2023/10/10-1.png
END:VEVENT
BEGIN:VEVENT
DTSTART;TZID=Asia/Kolkata:20230929T080000
DTEND;TZID=Asia/Kolkata:20230929T170000
DTSTAMP:20260422T221229
CREATED:20231005T091935Z
LAST-MODIFIED:20240416T070137Z
UID:671-1695974400-1696006800@www.rotarysuratdiamondcity.org
SUMMARY:EXAMPHOBIA
DESCRIPTION:Seminar On Fear Of Exams- Examinophobia-mental Health Awareness\nBeneficiaries:  60 \nRotary Club Of Baroda And Rotary Club Of Surat Diamond City Organized A Seminar On Fear Of Exams Technically Known As Examinophobia\, At Technical High School \, Dandia Bazar\, Baroda Total Direct Benificiaries Were 60 Students
URL:https://www.rotarysuratdiamondcity.org/event/examphobia-3/
ATTACH;FMTTYPE=image/png:https://www.rotarysuratdiamondcity.org/wp-content/uploads/2023/10/11.png
END:VEVENT
BEGIN:VEVENT
DTSTART;TZID=Asia/Kolkata:20230929T113000
DTEND;TZID=Asia/Kolkata:20230929T123000
DTSTAMP:20260422T221229
CREATED:20231003T053539Z
LAST-MODIFIED:20240416T065520Z
UID:594-1695987000-1695990600@www.rotarysuratdiamondcity.org
SUMMARY:Mental Health Awareness
DESCRIPTION:Speaker Name: Satyam Sagar  (Master in Clinical Psychology) \n       \n        \nRotary Club of Baroda Organised a speaker meeting on mental health awareness\, Rotary Club of Surat Diamond City supported them \, Surat Diamond City Secretary Satyam Sagar Delivered the speech on Concept of Disease: Somatic Disorders\, Total Direct Beneficiaries 35 \nA Seminar Organised by Rotary Club of Vadodara at Technical High School\, Vadodara\, and supported by Rotary Club of Surat Diamond City\, Secretary Satyam Sagar Delivered speech on what is Examphobia and how to deal with it\, total beneficiaries were 60
URL:https://www.rotarysuratdiamondcity.org/event/mental-health-wareness/
ATTACH;FMTTYPE=image/jpeg:https://www.rotarysuratdiamondcity.org/wp-content/uploads/2023/10/1.jpg
END:VEVENT
END:VCALENDAR