BEGIN:VCALENDAR
VERSION:2.0
PRODID:-//Rotary Surat Diamond City - ECPv6.15.20//NONSGML v1.0//EN
CALSCALE:GREGORIAN
METHOD:PUBLISH
X-ORIGINAL-URL:https://www.rotarysuratdiamondcity.org
X-WR-CALDESC:Events for Rotary Surat Diamond City
REFRESH-INTERVAL;VALUE=DURATION:PT1H
X-Robots-Tag:noindex
X-PUBLISHED-TTL:PT1H
BEGIN:VTIMEZONE
TZID:Asia/Kolkata
BEGIN:STANDARD
TZOFFSETFROM:+0530
TZOFFSETTO:+0530
TZNAME:IST
DTSTART:20230101T000000
END:STANDARD
END:VTIMEZONE
BEGIN:VEVENT
DTSTART;VALUE=DATE:20240815
DTEND;VALUE=DATE:20240816
DTSTAMP:20260422T062612
CREATED:20240816T060309Z
LAST-MODIFIED:20250628T130122Z
UID:955-1723680000-1723766399@www.rotarysuratdiamondcity.org
SUMMARY:15 august 2024
DESCRIPTION:Saroli Prathamik Shala \nThe Rotaract Club Of Surat Diamond City Organized A15th August is celebrated every year as Independence Day in India to honor the historic moment in 1947 when India became free from British rule after years of struggle and sacrifice. This day marks the birth of the world’s largest democracy and the spirit of patriotism that unites the nation. \nNumber of Participants :- 15 Rotractors + \n550+ School Student’s \n \n        \n     \nINSTAGRAM :- https://www.instagram.com/rcsuratdiamondcity
URL:https://www.rotarysuratdiamondcity.org/event/15-august-2024-independence-day/
ATTACH;FMTTYPE=image/jpeg:https://www.rotarysuratdiamondcity.org/wp-content/uploads/2024/08/RRC-Frame-15-08-1.jpg
END:VEVENT
BEGIN:VEVENT
DTSTART;VALUE=DATE:20240818
DTEND;VALUE=DATE:20240819
DTSTAMP:20260422T062612
CREATED:20240831T052520Z
LAST-MODIFIED:20250628T130443Z
UID:972-1723939200-1724025599@www.rotarysuratdiamondcity.org
SUMMARY:Donation for 2 Cataract Operation
DESCRIPTION:Sponsored by : Rajeshbhai Mnadaviya & Dhruvalbhai Godhani \nThe Rotaract Club Of Surat Diamond City Organized the Cataract\, a leading\ncause of preventable blindness\, a ects the quality of life for many\nunderprivileged individuals. This initiative aims to support two cataract\nsurgeries\, providing the gift of vision to those who cannot aord treatment. The\ndonation covers pre-operative checkups\, surgery\, post-operative care\, and\nnecessary medications. \nBeneficiaries :- Donation of 50 pairs of clothes for the children (age: 5-10 years ) of the patients  \n         \n       \n       \n \n  \nINSTAGRAM :- https://www.instagram.com/rcsuratdiamondcity
URL:https://www.rotarysuratdiamondcity.org/event/donation-for-2-cataract-operation/
ATTACH;FMTTYPE=image/jpeg:https://www.rotarysuratdiamondcity.org/wp-content/uploads/2024/08/RRC-Frame-3-1.jpg
END:VEVENT
END:VCALENDAR