BEGIN:VCALENDAR
VERSION:2.0
PRODID:-//Rotary Surat Diamond City - ECPv6.15.20//NONSGML v1.0//EN
CALSCALE:GREGORIAN
METHOD:PUBLISH
X-WR-CALNAME:Rotary Surat Diamond City
X-ORIGINAL-URL:https://www.rotarysuratdiamondcity.org
X-WR-CALDESC:Events for Rotary Surat Diamond City
REFRESH-INTERVAL;VALUE=DURATION:PT1H
X-Robots-Tag:noindex
X-PUBLISHED-TTL:PT1H
BEGIN:VTIMEZONE
TZID:Asia/Kolkata
BEGIN:STANDARD
TZOFFSETFROM:+0530
TZOFFSETTO:+0530
TZNAME:IST
DTSTART:20230101T000000
END:STANDARD
END:VTIMEZONE
BEGIN:VEVENT
DTSTART;VALUE=DATE:20241209
DTEND;VALUE=DATE:20241210
DTSTAMP:20260422T003448
CREATED:20250101T054808Z
LAST-MODIFIED:20250628T130537Z
UID:1076-1733702400-1733788799@www.rotarysuratdiamondcity.org
SUMMARY:Examinophobia
DESCRIPTION:Chairman :- Umesh Kathiriya\nLocation:- Nagar Prathamik-Shala 56\, Surat. \nThe Rotaract Club Of Surat Diamond City Organized The Examinophobia refers to the intense fear or anxiety associated with taking exams or tests. It is a\npsychological condition often experienced by students of all ages and can significantly aect academic performance and mental well-being. Individuals\nwith examinophobia may experience symptoms such as rapid heartbeat\, sweating\, nausea\, restlessness\, or a complete mental block during assessments. \nBeneficiaries :- 300+ students \n     \n     \n  \nINSTAGRAM :- https://www.instagram.com/rcsuratdiamondcity \n 
URL:https://www.rotarysuratdiamondcity.org/event/examinophobia/
ATTACH;FMTTYPE=image/jpeg:https://www.rotarysuratdiamondcity.org/wp-content/uploads/2025/01/Examinophobiaa-site.jpg
END:VEVENT
BEGIN:VEVENT
DTSTART;VALUE=DATE:20241209
DTEND;VALUE=DATE:20241210
DTSTAMP:20260422T003448
CREATED:20250101T055451Z
LAST-MODIFIED:20250628T130614Z
UID:1086-1733702400-1733788799@www.rotarysuratdiamondcity.org
SUMMARY:Good Touch Bad Touch
DESCRIPTION:Good Touch Bad Touch \nThe Rotaract Club Of Surat Diamond City Organized The “Good Touch and Bad Touch” is a child safety awareness concept designed to help children understand\nthe di erence between safe (appropriate) and unsafe (inappropriate) physical contact. It empowers children to recognize potentially harmful situations\,\nprotect their personal boundaries\, and confidently report any uncomfortable experiences. \nBeneficiaries :- 100+ Student’s\n\n      \n \n  \nINSTAGRAM :- https://www.instagram.com/rcsuratdiamondcity
URL:https://www.rotarysuratdiamondcity.org/event/good-touch-bad-touch-2/
ATTACH;FMTTYPE=image/jpeg:https://www.rotarysuratdiamondcity.org/wp-content/uploads/2025/01/good-touch-bad-touch-site.jpg
END:VEVENT
BEGIN:VEVENT
DTSTART;VALUE=DATE:20241209
DTEND;VALUE=DATE:20241210
DTSTAMP:20260422T003448
CREATED:20250101T060731Z
LAST-MODIFIED:20250628T130225Z
UID:1093-1733702400-1733788799@www.rotarysuratdiamondcity.org
SUMMARY:Manodivyang Balako Ni Hostel Mulakat & Balako Ne Bhojan
DESCRIPTION:Manodivyang Balako Ni Hostel Mulakat & Balako Ne Bhojan\n \nLocation : Block no. 64\, Opposite SMC Garden\, Opposite Shivanta Palace\, Vt. Nagar to Khasad Road\, Sarthana\, Surat. \nThe Rotaract Club Of Surat Diamond City Organized The “Manodivyang Balako” refers to children with intellectual or developmental disabilities who may face\nchallenges in learning\, communication\, behavior\, or daily living activities. These children have unique abilities and potential\, and with the right support\, care\,\nand inclusive environment\, they can lead meaningful and fulfilling lives. \nBeneficiaries :- 50/60 Children’s \n           \nINSTAGRAM :- https://www.instagram.com/rcsuratdiamondcity
URL:https://www.rotarysuratdiamondcity.org/event/manodivyang-balako-ni-hostel-mulakat-balako-ne-bhojan/
ATTACH;FMTTYPE=image/jpeg:https://www.rotarysuratdiamondcity.org/wp-content/uploads/2025/01/Manodivyang-Balako-site.jpg
END:VEVENT
BEGIN:VEVENT
DTSTART;VALUE=DATE:20241212
DTEND;VALUE=DATE:20241213
DTSTAMP:20260422T003448
CREATED:20250101T051420Z
LAST-MODIFIED:20250628T130256Z
UID:1043-1733961600-1734047999@www.rotarysuratdiamondcity.org
SUMMARY:12 Year Charter Day Celebration's
DESCRIPTION:12 Year Charter Day Celebration’s \nThe Rotaract Club Of Surat Diamond City Organized The Charter Day is a commemorative occasion celebrated to mark the founding or o cial\nestablishment of an institution\, such as a university\, city\, or organization\, through the granting of a charter. This charter is a formal document that outlines the\ninstitution’s mission\, rights\, and responsibilities. Charter Day serves as a reminder of the organization’s historical roots\, values\, and progress over time. \nBeneficiaries :- 50 Club Members Families \n       \nINSTAGRAM :- https://www.instagram.com/rcsuratdiamondcity
URL:https://www.rotarysuratdiamondcity.org/event/12-year-charter-day-celebrations/
ATTACH;FMTTYPE=image/jpeg:https://www.rotarysuratdiamondcity.org/wp-content/uploads/2025/01/12-12-2012.jpg
END:VEVENT
BEGIN:VEVENT
DTSTART;VALUE=DATE:20241212
DTEND;VALUE=DATE:20241213
DTSTAMP:20260422T003448
CREATED:20250101T052937Z
LAST-MODIFIED:20250628T130219Z
UID:1052-1733961600-1734047999@www.rotarysuratdiamondcity.org
SUMMARY:Balako ne Bhojan
DESCRIPTION:Balako ne Bhojan\nLocation: Prathamik shala\, Vedapada\, T : Nizar\, D : Tapi \nThe Rotaract Club Of Surat Diamond City Organized The “Balako Ne Bhojan” is a community-driven or institutional initiative focused on providing nutritious\nmeals to children. The program aims to ensure that children\, especially those from underprivileged backgrounds\, receive adequate and healthy food to\nsupport their physical and mental development. Such initiatives are often organized by schools\, NGOs\, government bodies\, or charitable groups.\nBeneficiaries :- 200+ Student’ \n       \n       \n\nINSTAGRAM :- https://www.instagram.com/rcsuratdiamondcity\n \n 
URL:https://www.rotarysuratdiamondcity.org/event/balako-ne-bhojan/
ATTACH;FMTTYPE=image/jpeg:https://www.rotarysuratdiamondcity.org/wp-content/uploads/2025/01/Site.jpg
END:VEVENT
BEGIN:VEVENT
DTSTART;VALUE=DATE:20241212
DTEND;VALUE=DATE:20241213
DTSTAMP:20260422T003448
CREATED:20250101T053804Z
LAST-MODIFIED:20250628T130353Z
UID:1064-1733961600-1734047999@www.rotarysuratdiamondcity.org
SUMMARY:Cows-Feeding
DESCRIPTION:Cows-Feeding \nThe Rotaract Club Of Surat Diamond City Organized The Cows feeding refers to the act of providing food and nourishment to cows\, either as part of daily\nlivestock care or as a charitable activity in many cultural and religious contexts. Feeding cows is not only essential for their health and productivity but also holds\nspiritual and emotional significance in many communities.\n \n     \n      \n     \n  \nINSTAGRAM :- https://www.instagram.com/rcsuratdiamondcity
URL:https://www.rotarysuratdiamondcity.org/event/cows-feeding/
ATTACH;FMTTYPE=image/jpeg:https://www.rotarysuratdiamondcity.org/wp-content/uploads/2025/01/cows-feeding-site.jpg
END:VEVENT
BEGIN:VEVENT
DTSTART;VALUE=DATE:20241214
DTEND;VALUE=DATE:20241215
DTSTAMP:20260422T003448
CREATED:20250101T061810Z
LAST-MODIFIED:20250630T055718Z
UID:1102-1734134400-1734220799@www.rotarysuratdiamondcity.org
SUMMARY:LED Pad Distribution
DESCRIPTION:LED Pad Distribution \nThe Rotaract Club Of Surat Diamond City Organized A The LED Pad Distribution initiative is a community welfare activity aimed at providing energy-efficient LED lighting pads to students\, households\, or rural communities with limited access to proper lighting. These portable LED pads help improve study conditions\, household lighting\, and overall safety while promoting the use of sustainable\, eco-friendly technology.
URL:https://www.rotarysuratdiamondcity.org/event/led-pad-distribution/
ATTACH;FMTTYPE=image/jpeg:https://www.rotarysuratdiamondcity.org/wp-content/uploads/2025/01/LED-site.jpg
END:VEVENT
BEGIN:VEVENT
DTSTART;TZID=Asia/Kolkata:20241214T080000
DTEND;TZID=Asia/Kolkata:20241214T170000
DTSTAMP:20260422T003448
CREATED:20250628T111708Z
LAST-MODIFIED:20250630T055656Z
UID:1535-1734163200-1734195600@www.rotarysuratdiamondcity.org
SUMMARY:Supa Clothes Donation
DESCRIPTION:The Rotaract Club Of Surat Diamond City Organized A The Supa Clothes Donation is a charitable initiative aimed at collecting and distributing gently used clothes to underprivileged individuals and families in the Supa region. This drive ensures that those in need receive proper clothing\, especially during seasonal changes\, and promotes compassion\, dignity\, and community support. \n        \n     \n  \nINSTAGRAM :- https://www.instagram.com/rcsuratdiamondcity
URL:https://www.rotarysuratdiamondcity.org/event/supa-clothes-donation/
ATTACH;FMTTYPE=image/png:https://www.rotarysuratdiamondcity.org/wp-content/uploads/2025/06/Supa-Clothes-Donation1.png
END:VEVENT
BEGIN:VEVENT
DTSTART;VALUE=DATE:20241225
DTEND;VALUE=DATE:20241226
DTSTAMP:20260422T003448
CREATED:20241231T070609Z
LAST-MODIFIED:20250701T052628Z
UID:1035-1735084800-1735171199@www.rotarysuratdiamondcity.org
SUMMARY:Cloth Distribution Project
DESCRIPTION:Cloth Distribution Project \nThe Cloth Distribution Project is a humanitarian initiative aimed at collecting and distributing clean\, usable clothes to the underprivileged\, especially those living in slums\, remote villages\, orphanages\, and shelter homes. This project ensures that basic clothing needs are met with dignity\, especially during seasonal changes like winter and monsoon.\n \n    \nINSTAGRAM :- https://www.instagram.com/rcsuratdiamondcity
URL:https://www.rotarysuratdiamondcity.org/event/cloth-distribution-project/
ATTACH;FMTTYPE=image/jpeg:https://www.rotarysuratdiamondcity.org/wp-content/uploads/2024/12/cloth-distribution-project.jpg
END:VEVENT
BEGIN:VEVENT
DTSTART;VALUE=DATE:20241229
DTEND;VALUE=DATE:20241230
DTSTAMP:20260422T003448
CREATED:20241231T065718Z
LAST-MODIFIED:20250628T130331Z
UID:1026-1735430400-1735516799@www.rotarysuratdiamondcity.org
SUMMARY:Sweater Distribution Project
DESCRIPTION:Sweater Distribution Project \nSponsors :- Appgenix Infotech LLP \nThe Rotaract Club Of Surat Diamond City Organized the The Sweater Vitaran ( वेटर वतरण) initiative was launched to provide warmth and comfort to\nunderprivileged children and elderly during the winter season. The project involved distributing high-quality sweaters to those in need\, especially in rural\nand low-income communities. The aim was to ensure that no individual faces the harsh winter without proper clothing. \nBeneficiaries :- 50+\n \n    \n  \nINSTAGRAM :- https://www.instagram.com/rcsuratdiamondcity
URL:https://www.rotarysuratdiamondcity.org/event/sweater-distribution/
ATTACH;FMTTYPE=image/jpeg:https://www.rotarysuratdiamondcity.org/wp-content/uploads/2024/12/sweater-distribution-project.jpg
END:VEVENT
END:VCALENDAR