BEGIN:VCALENDAR
VERSION:2.0
PRODID:-//Rotary Surat Diamond City - ECPv6.15.20//NONSGML v1.0//EN
CALSCALE:GREGORIAN
METHOD:PUBLISH
X-WR-CALNAME:Rotary Surat Diamond City
X-ORIGINAL-URL:https://www.rotarysuratdiamondcity.org
X-WR-CALDESC:Events for Rotary Surat Diamond City
REFRESH-INTERVAL;VALUE=DURATION:PT1H
X-Robots-Tag:noindex
X-PUBLISHED-TTL:PT1H
BEGIN:VTIMEZONE
TZID:Asia/Kolkata
BEGIN:STANDARD
TZOFFSETFROM:+0530
TZOFFSETTO:+0530
TZNAME:IST
DTSTART:20240101T000000
END:STANDARD
END:VTIMEZONE
BEGIN:VEVENT
DTSTART;VALUE=DATE:20250301
DTEND;VALUE=DATE:20250331
DTSTAMP:20260421T202510
CREATED:20250628T073952Z
LAST-MODIFIED:20250804T095446Z
UID:1378-1740787200-1743379199@www.rotarysuratdiamondcity.org
SUMMARY:E WASTE COLLECTION DRIVE
DESCRIPTION:The Rotaract Club Of Surat Diamond City Organized A An E-Waste Collection Drive is an environmental initiative aimed at collecting and responsibly\ndisposing of electronic waste such as old computers\, mobile phones\, batteries\, chargers\, appliances\, and other unused or damaged electronic items. The drive\npromotes sustainable waste management and raises awareness about the hazards of improper e-waste disposal. \nBeneficiaries :- 15+ Units \n    \n  \nINSTAGRAM :- \nRotaract : https://www.instagram.com/rcsuratdiamondcity/ \nRotary : https://www.instagram.com/rotarysuratdiamondcity/
URL:https://www.rotarysuratdiamondcity.org/event/e-waste-collection-drive/
ATTACH;FMTTYPE=image/jpeg:https://www.rotarysuratdiamondcity.org/wp-content/uploads/2025/06/E-WASTE-COLLECTION-DRIVE1.jpg
END:VEVENT
BEGIN:VEVENT
DTSTART;VALUE=DATE:20250306
DTEND;VALUE=DATE:20250307
DTSTAMP:20260421T202510
CREATED:20250312T054451Z
LAST-MODIFIED:20250804T095425Z
UID:1261-1741219200-1741305599@www.rotarysuratdiamondcity.org
SUMMARY:Inter Club Fellow
DESCRIPTION:Ship Meeting  with Rotary Club of Sarigam \nThe Rotaract Club Of Surat Diamond City Organized The Inter Club Fellow initiative refers to a collaborative program or event involving members from\ndi erent clubs—such as Rotaract\, Leo\, NSS\, or other community\, educational\, or service-based clubs. It is designed to foster teamwork\, fellowship\, and mutual\nlearning among club members from diverse backgrounds and regions. \n      \nINSTAGRAM :- \nRotaract : https://www.instagram.com/rcsuratdiamondcity/ \nRotary : https://www.instagram.com/rotarysuratdiamondcity/
URL:https://www.rotarysuratdiamondcity.org/event/inter-club-fellow/
ATTACH;FMTTYPE=image/jpeg:https://www.rotarysuratdiamondcity.org/wp-content/uploads/2025/03/icf-1.jpg
END:VEVENT
BEGIN:VEVENT
DTSTART;VALUE=DATE:20250308
DTEND;VALUE=DATE:20250309
DTSTAMP:20260421T202510
CREATED:20250322T062716Z
LAST-MODIFIED:20250804T095412Z
UID:1301-1741392000-1741478399@www.rotarysuratdiamondcity.org
SUMMARY:Women Day Celebration
DESCRIPTION:Women Day Celebration \nThe Rotaract Club Of Surat Diamond City Organized The International Women’s Day\, celebrated every year on 8th March\, is a global event that honors the\nachievements\, contributions\, and resilience of women across all walks of life. It is a day to recognize women’s social\, economic\, cultural\, and political\naccomplishments\, while also advocating for gender equality and women’s rights.\n \n     \n     \n     \nINSTAGRAM :- \nRotaract : https://www.instagram.com/rcsuratdiamondcity/ \nRotary : https://www.instagram.com/rotarysuratdiamondcity/
URL:https://www.rotarysuratdiamondcity.org/event/women-day-celebration/
ATTACH;FMTTYPE=image/jpeg:https://www.rotarysuratdiamondcity.org/wp-content/uploads/2025/03/WD.jpg
END:VEVENT
BEGIN:VEVENT
DTSTART;VALUE=DATE:20250323
DTEND;VALUE=DATE:20250324
DTSTAMP:20260421T202510
CREATED:20250628T105229Z
LAST-MODIFIED:20250804T095400Z
UID:1503-1742688000-1742774399@www.rotarysuratdiamondcity.org
SUMMARY:SAROLI-SCHOOL SPORTS DAY
DESCRIPTION:The Rotaract Club Of Surat Diamond City Organized The Saroli School Sports Day is an annual event dedicated to promoting physical fitness\, teamwork\, and\nsportsmanship among students. It provides a platform for children to showcase their athletic talents\, engage in healthy competition\, and develop confidence\nthrough various sports and games. \n Beneficiaries :- 15+ Winner Students \n   \n     \n  \nINSTAGRAM :- \nRotaract : https://www.instagram.com/rcsuratdiamondcity/ \nRotary : https://www.instagram.com/rotarysuratdiamondcity/
URL:https://www.rotarysuratdiamondcity.org/event/saroli-school-sports-day/
ATTACH;FMTTYPE=image/jpeg:https://www.rotarysuratdiamondcity.org/wp-content/uploads/2025/06/RRC-Frame.jpg
END:VEVENT
END:VCALENDAR